BEGIN:VCALENDAR
VERSION:2.0
PRODID:-//STUDIOCANAL Intl//release-reminder//EN
BEGIN:VEVENT
UID:wn1h@http://https://www.sonofbigfootmovie.co.nz
SEQUENCE:0
DTSTAMP:20171006T102430Z
DTSTART;VALUE=DATE:20171019
X-MICROSOFT-CDO-ALLDAYEVENT:TRUE
X-MICROSOFT-MSNCALENDAR-ALLDAYEVENT:TRUE
SUMMARY:Son of Bigfoot: Get Tickets
DESCRIPTION:Buy tickets now for Son of Bigfoot at
URL;VALUE=URI:http://https://www.sonofbigfootmovie.co.nz
END:VEVENT
END:VCALENDAR